BEGIN:VCALENDAR
VERSION:2.0
PRODID:-//Metropolitan Rod &amp; Gun Club - ECPv6.15.20//NONSGML v1.0//EN
CALSCALE:GREGORIAN
METHOD:PUBLISH
X-WR-CALNAME:Metropolitan Rod &amp; Gun Club
X-ORIGINAL-URL:https://metrorgc.org
X-WR-CALDESC:Events for Metropolitan Rod &amp; Gun Club
REFRESH-INTERVAL;VALUE=DURATION:PT1H
X-Robots-Tag:noindex
X-PUBLISHED-TTL:PT1H
BEGIN:VTIMEZONE
TZID:America/New_York
BEGIN:DAYLIGHT
TZOFFSETFROM:-0500
TZOFFSETTO:-0400
TZNAME:EDT
DTSTART:20240310T070000
END:DAYLIGHT
BEGIN:STANDARD
TZOFFSETFROM:-0400
TZOFFSETTO:-0500
TZNAME:EST
DTSTART:20241103T060000
END:STANDARD
BEGIN:DAYLIGHT
TZOFFSETFROM:-0500
TZOFFSETTO:-0400
TZNAME:EDT
DTSTART:20250309T070000
END:DAYLIGHT
BEGIN:STANDARD
TZOFFSETFROM:-0400
TZOFFSETTO:-0500
TZNAME:EST
DTSTART:20251102T060000
END:STANDARD
BEGIN:DAYLIGHT
TZOFFSETFROM:-0500
TZOFFSETTO:-0400
TZNAME:EDT
DTSTART:20260308T070000
END:DAYLIGHT
BEGIN:STANDARD
TZOFFSETFROM:-0400
TZOFFSETTO:-0500
TZNAME:EST
DTSTART:20261101T060000
END:STANDARD
END:VTIMEZONE
BEGIN:VEVENT
DTSTART;TZID=America/New_York:20251026T100000
DTEND;TZID=America/New_York:20251026T120000
DTSTAMP:20260425T063826
CREATED:20251023T015740Z
LAST-MODIFIED:20251023T015740Z
UID:539-1761472800-1761480000@metrorgc.org
SUMMARY:NRA Pistol League Matches -2pm
DESCRIPTION:
URL:https://metrorgc.org/event/nra-pistol-league-matches-2pm/
END:VEVENT
BEGIN:VEVENT
DTSTART;TZID=America/New_York:20251026T080000
DTEND;TZID=America/New_York:20251026T110000
DTSTAMP:20260425T063826
CREATED:20251001T193023Z
LAST-MODIFIED:20251001T193450Z
UID:477-1761465600-1761476400@metrorgc.org
SUMMARY:Halloween Spooktakular - Juniors Archery Event
DESCRIPTION:Halloween Spooktakular – Archery Event for the Juniors
URL:https://metrorgc.org/event/halloween-spooktakular-juniors-archery-event/
END:VEVENT
BEGIN:VEVENT
DTSTART;TZID=America/New_York:20251026T060000
DTEND;TZID=America/New_York:20251026T080000
DTSTAMP:20260425T063826
CREATED:20251023T015655Z
LAST-MODIFIED:20251023T015655Z
UID:537-1761458400-1761465600@metrorgc.org
SUMMARY:NRA Pistol League Matches -10am
DESCRIPTION:
URL:https://metrorgc.org/event/nra-pistol-league-matches-10am/
END:VEVENT
BEGIN:VEVENT
DTSTART;TZID=America/New_York:20251026T050000
DTEND;TZID=America/New_York:20251026T130000
DTSTAMP:20260425T063826
CREATED:20251013T231307Z
LAST-MODIFIED:20251013T231307Z
UID:516-1761454800-1761483600@metrorgc.org
SUMMARY:Meeting Room Rental - Security Guard Training - 9am-5pm
DESCRIPTION:
URL:https://metrorgc.org/event/meeting-room-rental-security-guard-training-9am-5pm-4/
END:VEVENT
BEGIN:VEVENT
DTSTART;TZID=America/New_York:20251025T050000
DTEND;TZID=America/New_York:20251025T130000
DTSTAMP:20260425T063826
CREATED:20251013T231224Z
LAST-MODIFIED:20251023T165854Z
UID:514-1761368400-1761397200@metrorgc.org
SUMMARY:Meeting Room Rental - Security Guard Training - Class and Range Closed - 9am-5pm
DESCRIPTION:
URL:https://metrorgc.org/event/meeting-room-rental-security-guard-training-9am-5pm-3/
END:VEVENT
BEGIN:VEVENT
DTSTART;TZID=America/New_York:20251023T160000
DTEND;TZID=America/New_York:20251023T173000
DTSTAMP:20260425T063826
CREATED:20251013T231145Z
LAST-MODIFIED:20251013T231145Z
UID:512-1761235200-1761240600@metrorgc.org
SUMMARY:General Business Meeting - 8pm
DESCRIPTION:
URL:https://metrorgc.org/event/general-business-meeting-8pm/
END:VEVENT
BEGIN:VEVENT
DTSTART;TZID=America/New_York:20251023T150000
DTEND;TZID=America/New_York:20251023T160000
DTSTAMP:20260425T063826
CREATED:20251013T231109Z
LAST-MODIFIED:20251013T231109Z
UID:510-1761231600-1761235200@metrorgc.org
SUMMARY:Film Screening & Simms Trunk Show  - 7pm
DESCRIPTION:
URL:https://metrorgc.org/event/film-screening-simms-trunk-show-7pm/
END:VEVENT
BEGIN:VEVENT
DTSTART;TZID=America/New_York:20251023T140000
DTEND;TZID=America/New_York:20251023T150000
DTSTAMP:20260425T063826
CREATED:20251023T015511Z
LAST-MODIFIED:20251023T015511Z
UID:535-1761228000-1761231600@metrorgc.org
SUMMARY:NRA Safety Seminar at 6pm in the Meeting Room
DESCRIPTION:
URL:https://metrorgc.org/event/nra-safety-seminar-at-6pm-in-the-meeting-room/
END:VEVENT
BEGIN:VEVENT
DTSTART;TZID=America/New_York:20251022T133000
DTEND;TZID=America/New_York:20251022T163000
DTSTAMP:20260425T063826
CREATED:20251013T231007Z
LAST-MODIFIED:20251013T231007Z
UID:508-1761139800-1761150600@metrorgc.org
SUMMARY:Archery Range Rental - 5:30-8:30pm
DESCRIPTION:
URL:https://metrorgc.org/event/archery-range-rental-530-830pm/
END:VEVENT
BEGIN:VEVENT
DTSTART;TZID=America/New_York:20251022T130000
DTEND;TZID=America/New_York:20251022T160000
DTSTAMP:20260425T063826
CREATED:20250923T023222Z
LAST-MODIFIED:20250923T023222Z
UID:441-1761138000-1761148800@metrorgc.org
SUMMARY:GNYPL .22 Caliber
DESCRIPTION:
URL:https://metrorgc.org/event/gnypl-22-caliber-4/
END:VEVENT
BEGIN:VEVENT
DTSTART;TZID=America/New_York:20251022T040000
DTEND;TZID=America/New_York:20251022T130000
DTSTAMP:20260425T063826
CREATED:20251023T015805Z
LAST-MODIFIED:20251023T015805Z
UID:541-1761105600-1761138000@metrorgc.org
SUMMARY:New Shooter Seminar - 4-8pm
DESCRIPTION:
URL:https://metrorgc.org/event/new-shooter-seminar-4-8pm/
END:VEVENT
BEGIN:VEVENT
DTSTART;TZID=America/New_York:20251021T130000
DTEND;TZID=America/New_York:20251021T160000
DTSTAMP:20260425T063826
CREATED:20251013T230932Z
LAST-MODIFIED:20251013T230932Z
UID:506-1761051600-1761062400@metrorgc.org
SUMMARY:Clubhouse - Social & Shoot 5-8pm - pistol license REQUIRED
DESCRIPTION:
URL:https://metrorgc.org/event/clubhouse-social-shoot-5-8pm-pistol-license-required/
END:VEVENT
BEGIN:VEVENT
DTSTART;TZID=America/New_York:20251021T040000
DTEND;TZID=America/New_York:20251021T130000
DTSTAMP:20260425T063826
CREATED:20251013T230832Z
LAST-MODIFIED:20251013T230832Z
UID:504-1761019200-1761051600@metrorgc.org
SUMMARY:Glock Armorers Event - Full Day Course
DESCRIPTION:
URL:https://metrorgc.org/event/glock-armorers-event-full-day-course/
END:VEVENT
BEGIN:VEVENT
DTSTART;TZID=America/New_York:20251019T050000
DTEND;TZID=America/New_York:20251019T130000
DTSTAMP:20260425T063826
CREATED:20251013T230455Z
LAST-MODIFIED:20251013T230727Z
UID:500-1760850000-1760878800@metrorgc.org
SUMMARY:Meeting Room Rental - Security Guard Training - 9am-5pm
DESCRIPTION:
URL:https://metrorgc.org/event/meeting-room-rental-security-guard-training-9am-5pm/
END:VEVENT
BEGIN:VEVENT
DTSTART;TZID=America/New_York:20251018T050000
DTEND;TZID=America/New_York:20251018T130000
DTSTAMP:20260425T063826
CREATED:20251013T230659Z
LAST-MODIFIED:20251013T230659Z
UID:502-1760763600-1760792400@metrorgc.org
SUMMARY:Meeting Room Rental - Security Guard Training - 9am-5pm
DESCRIPTION:
URL:https://metrorgc.org/event/meeting-room-rental-security-guard-training-9am-5pm-2/
END:VEVENT
BEGIN:VEVENT
DTSTART;TZID=America/New_York:20251016T160000
DTEND;TZID=America/New_York:20251016T170000
DTSTAMP:20260425T063826
CREATED:20251001T192819Z
LAST-MODIFIED:20251001T192819Z
UID:473-1760630400-1760634000@metrorgc.org
SUMMARY:Executive Meeting - 3rd Thursday
DESCRIPTION:Executive Meeting – 3rd Thursday starting at 8pm
URL:https://metrorgc.org/event/executive-meeting-3rd-thursday/
END:VEVENT
BEGIN:VEVENT
DTSTART;TZID=America/New_York:20251015T130000
DTEND;TZID=America/New_York:20251015T160000
DTSTAMP:20260425T063826
CREATED:20250923T023129Z
LAST-MODIFIED:20250923T023129Z
UID:438-1760533200-1760544000@metrorgc.org
SUMMARY:GNYPL .22 Caliber
DESCRIPTION:
URL:https://metrorgc.org/event/gnypl-22-caliber-3/
END:VEVENT
BEGIN:VEVENT
DTSTART;TZID=America/New_York:20251014T130000
DTEND;TZID=America/New_York:20251014T160000
DTSTAMP:20260425T063826
CREATED:20251013T190143Z
LAST-MODIFIED:20251013T190143Z
UID:495-1760446800-1760457600@metrorgc.org
SUMMARY:Adult .22 Cal night
DESCRIPTION:Adult .22 cal night at the clubhouse – members only
URL:https://metrorgc.org/event/adult-22-cal-night/
END:VEVENT
BEGIN:VEVENT
DTSTART;TZID=America/New_York:20251014T050000
DTEND;TZID=America/New_York:20251014T090000
DTSTAMP:20260425T063826
CREATED:20251013T230413Z
LAST-MODIFIED:20251013T230413Z
UID:498-1760418000-1760432400@metrorgc.org
SUMMARY:Meeting Room Rental - 9am-1pm
DESCRIPTION:
URL:https://metrorgc.org/event/meeting-room-rental-9am-1pm/
END:VEVENT
BEGIN:VEVENT
DTSTART;TZID=America/New_York:20251009T140000
DTEND;TZID=America/New_York:20251009T160000
DTSTAMP:20260425T063826
CREATED:20251001T192700Z
LAST-MODIFIED:20251001T192700Z
UID:471-1760018400-1760025600@metrorgc.org
SUMMARY:Juniors Night - 2nd Thursday
DESCRIPTION:Juniors Night starting at 6pm
URL:https://metrorgc.org/event/juniors-night-2nd-thursday/
END:VEVENT
BEGIN:VEVENT
DTSTART;TZID=America/New_York:20251008T130000
DTEND;TZID=America/New_York:20251008T160000
DTSTAMP:20260425T063826
CREATED:20250923T023057Z
LAST-MODIFIED:20250923T023057Z
UID:436-1759928400-1759939200@metrorgc.org
SUMMARY:GNYPL .22 Caliber
DESCRIPTION:
URL:https://metrorgc.org/event/gnypl-22-caliber-2/
END:VEVENT
BEGIN:VEVENT
DTSTART;TZID=America/New_York:20251006T140000
DTEND;TZID=America/New_York:20251006T160000
DTSTAMP:20260425T063826
CREATED:20250923T023347Z
LAST-MODIFIED:20250923T023347Z
UID:445-1759759200-1759766400@metrorgc.org
SUMMARY:Mantis Monday
DESCRIPTION:
URL:https://metrorgc.org/event/mantis-monday/
END:VEVENT
BEGIN:VEVENT
DTSTART;TZID=America/New_York:20251005T050000
DTEND;TZID=America/New_York:20251005T130000
DTSTAMP:20260425T063826
CREATED:20250919T001206Z
LAST-MODIFIED:20250919T001206Z
UID:296-1759640400-1759669200@metrorgc.org
SUMMARY:CCW Course at Clubhouse
DESCRIPTION:
URL:https://metrorgc.org/event/ccw-course-at-clubhouse/
END:VEVENT
BEGIN:VEVENT
DTSTART;TZID=America/New_York:20251001T130000
DTEND;TZID=America/New_York:20251001T160000
DTSTAMP:20260425T063826
CREATED:20250923T023032Z
LAST-MODIFIED:20250923T023032Z
UID:434-1759323600-1759334400@metrorgc.org
SUMMARY:GNYPL .22 Caliber
DESCRIPTION:
URL:https://metrorgc.org/event/gnypl-22-caliber/
END:VEVENT
BEGIN:VEVENT
DTSTART;TZID=America/New_York:20251001T040000
DTEND;TZID=America/New_York:20251114T120000
DTSTAMP:20260425T063826
CREATED:20250919T001059Z
LAST-MODIFIED:20250919T001059Z
UID:293-1759291200-1763121600@metrorgc.org
SUMMARY:Early Bowhunting Season - Hancock Property WMU 4W
DESCRIPTION:
URL:https://metrorgc.org/event/early-bowhunting-season-hancock-property-wmu-4w/
END:VEVENT
BEGIN:VEVENT
DTSTART;TZID=America/New_York:20250928T050000
DTEND;TZID=America/New_York:20250928T130000
DTSTAMP:20260425T063826
CREATED:20250919T000854Z
LAST-MODIFIED:20250919T000854Z
UID:291-1759035600-1759064400@metrorgc.org
SUMMARY:4th Sunday New Shooter Seminar
DESCRIPTION:
URL:https://metrorgc.org/event/4th-sunday-new-shooter-seminar/
END:VEVENT
BEGIN:VEVENT
DTSTART;TZID=America/New_York:20250925T160000
DTEND;TZID=America/New_York:20250925T170000
DTSTAMP:20260425T063826
CREATED:20250919T000216Z
LAST-MODIFIED:20250919T000216Z
UID:285-1758816000-1758819600@metrorgc.org
SUMMARY:General Business Meeting - 8pm at the Clubhouse
DESCRIPTION:
URL:https://metrorgc.org/event/general-business-meeting-8pm-at-the-clubhouse/
END:VEVENT
BEGIN:VEVENT
DTSTART;TZID=America/New_York:20250924T133000
DTEND;TZID=America/New_York:20250924T163000
DTSTAMP:20260425T063826
CREATED:20250923T022924Z
LAST-MODIFIED:20250923T022924Z
UID:432-1758720600-1758731400@metrorgc.org
SUMMARY:Archery Range Rental - 5:30 to 8:30PM
DESCRIPTION:
URL:https://metrorgc.org/event/archery-range-rental-530-to-830pm/
END:VEVENT
BEGIN:VEVENT
DTSTART;TZID=America/New_York:20250920T050000
DTEND;TZID=America/New_York:20250920T130000
DTSTAMP:20260425T063826
CREATED:20250919T000323Z
LAST-MODIFIED:20250919T000323Z
UID:287-1758344400-1758373200@metrorgc.org
SUMMARY:DEC Hunter Safety - at the clubhouse - 9am to 5pm
DESCRIPTION:
URL:https://metrorgc.org/event/dec-hunter-safety-at-the-clubhouse-9am-to-5pm/
END:VEVENT
BEGIN:VEVENT
DTSTART;TZID=America/New_York:20250918T160000
DTEND;TZID=America/New_York:20250918T170000
DTSTAMP:20260425T063826
CREATED:20250918T233753Z
LAST-MODIFIED:20250918T233753Z
UID:273-1758211200-1758214800@metrorgc.org
SUMMARY:Executive Meeting - at Clubhouse - 8PM
DESCRIPTION:Executive Meeting – Every 3rd Thursday at 8PM
URL:https://metrorgc.org/event/executive-meeting-at-clubhouse-8pm/
LOCATION:Metropolitant Rod & Gun Club
END:VEVENT
END:VCALENDAR