BEGIN:VCALENDAR
VERSION:2.0
PRODID:-//Metropolitan Rod &amp; Gun Club - ECPv6.15.20//NONSGML v1.0//EN
CALSCALE:GREGORIAN
METHOD:PUBLISH
X-WR-CALNAME:Metropolitan Rod &amp; Gun Club
X-ORIGINAL-URL:https://metrorgc.org
X-WR-CALDESC:Events for Metropolitan Rod &amp; Gun Club
REFRESH-INTERVAL;VALUE=DURATION:PT1H
X-Robots-Tag:noindex
X-PUBLISHED-TTL:PT1H
BEGIN:VTIMEZONE
TZID:America/New_York
BEGIN:DAYLIGHT
TZOFFSETFROM:-0500
TZOFFSETTO:-0400
TZNAME:EDT
DTSTART:20250309T070000
END:DAYLIGHT
BEGIN:STANDARD
TZOFFSETFROM:-0400
TZOFFSETTO:-0500
TZNAME:EST
DTSTART:20251102T060000
END:STANDARD
BEGIN:DAYLIGHT
TZOFFSETFROM:-0500
TZOFFSETTO:-0400
TZNAME:EDT
DTSTART:20260308T070000
END:DAYLIGHT
BEGIN:STANDARD
TZOFFSETFROM:-0400
TZOFFSETTO:-0500
TZNAME:EST
DTSTART:20261101T060000
END:STANDARD
BEGIN:DAYLIGHT
TZOFFSETFROM:-0500
TZOFFSETTO:-0400
TZNAME:EDT
DTSTART:20270314T070000
END:DAYLIGHT
BEGIN:STANDARD
TZOFFSETFROM:-0400
TZOFFSETTO:-0500
TZNAME:EST
DTSTART:20271107T060000
END:STANDARD
END:VTIMEZONE
BEGIN:VEVENT
DTSTART;TZID=America/New_York:20260319T200000
DTEND;TZID=America/New_York:20260319T210000
DTSTAMP:20260422T092738
CREATED:20251210T043308Z
LAST-MODIFIED:20260227T211634Z
UID:722-1773950400-1773954000@metrorgc.org
SUMMARY:Executive Meeting - 3rd Thursday
DESCRIPTION:
URL:https://metrorgc.org/event/executive-meeting-3rd-thursday-4/
END:VEVENT
BEGIN:VEVENT
DTSTART;TZID=America/New_York:20260319T191500
DTEND;TZID=America/New_York:20260319T200000
DTSTAMP:20260422T092738
CREATED:20260225T215436Z
LAST-MODIFIED:20260227T211614Z
UID:831-1773947700-1773950400@metrorgc.org
SUMMARY:Archery Range RSO Refresher
DESCRIPTION:
URL:https://metrorgc.org/event/archery-range-rso-refresher/
END:VEVENT
BEGIN:VEVENT
DTSTART;TZID=America/New_York:20260318T170000
DTEND;TZID=America/New_York:20260318T210000
DTSTAMP:20260422T092738
CREATED:20260121T094016Z
LAST-MODIFIED:20260227T211511Z
UID:796-1773853200-1773867600@metrorgc.org
SUMMARY:Range: Pistol League
DESCRIPTION:
URL:https://metrorgc.org/event/range-pistol-league-8/
END:VEVENT
BEGIN:VEVENT
DTSTART;TZID=America/New_York:20260318T170000
DTEND;TZID=America/New_York:20260318T200000
DTSTAMP:20260422T092738
CREATED:20260225T215335Z
LAST-MODIFIED:20260227T211538Z
UID:829-1773853200-1773864000@metrorgc.org
SUMMARY:Archery range rental
DESCRIPTION:
URL:https://metrorgc.org/event/archery-range-rental-19/
END:VEVENT
BEGIN:VEVENT
DTSTART;TZID=America/New_York:20260315T170000
DTEND;TZID=America/New_York:20260315T200000
DTSTAMP:20260422T092738
CREATED:20260121T093930Z
LAST-MODIFIED:20260227T211451Z
UID:794-1773594000-1773604800@metrorgc.org
SUMMARY:Social & Shoot
DESCRIPTION:
URL:https://metrorgc.org/event/social-shoot-3/
END:VEVENT
BEGIN:VEVENT
DTSTART;TZID=America/New_York:20260315T123000
DTEND;TZID=America/New_York:20260315T143000
DTSTAMP:20260422T092738
CREATED:20260309T212500Z
LAST-MODIFIED:20260309T212500Z
UID:840-1773577800-1773585000@metrorgc.org
SUMMARY:Meeting room and pistol range in use
DESCRIPTION:
URL:https://metrorgc.org/event/meeting-room-and-pistol-range-in-use/
END:VEVENT
BEGIN:VEVENT
DTSTART;TZID=America/New_York:20260315T120000
DTEND;TZID=America/New_York:20260315T150000
DTSTAMP:20260422T092738
CREATED:20260310T131921Z
LAST-MODIFIED:20260310T131921Z
UID:842-1773576000-1773586800@metrorgc.org
SUMMARY:Shamrock Shoot - archery range
DESCRIPTION:
URL:https://metrorgc.org/event/shamrock-shoot-archery-range/
END:VEVENT
BEGIN:VEVENT
DTSTART;TZID=America/New_York:20260315T100000
DTEND;TZID=America/New_York:20260315T160000
DTSTAMP:20260422T092738
CREATED:20251104T071508Z
LAST-MODIFIED:20260227T211346Z
UID:591-1773568800-1773590400@metrorgc.org
SUMMARY:Utah CCW course in the club room - RT
DESCRIPTION:The hours of operation will be from noon to 4:00pm for a Utah CCW course in the club room\nonly. There is no range use required for this course.\nThe range is open to all members each day from:\n10:00 am to 11:45am\nand\n4:15pm to 8:00pm.
URL:https://metrorgc.org/event/utah-ccw-course-in-the-club-room-rt-3/
END:VEVENT
BEGIN:VEVENT
DTSTART;TZID=America/New_York:20260312T170000
DTEND;TZID=America/New_York:20260312T200000
DTSTAMP:20260422T092738
CREATED:20251210T043404Z
LAST-MODIFIED:20260317T221424Z
UID:724-1773334800-1773345600@metrorgc.org
SUMMARY:Juniors Night - 2nd Thursday
DESCRIPTION:
URL:https://metrorgc.org/event/juniors-night-2nd-tuesday-4/
END:VEVENT
BEGIN:VEVENT
DTSTART;TZID=America/New_York:20260311T170000
DTEND;TZID=America/New_York:20260311T200000
DTSTAMP:20260422T092738
CREATED:20260121T093820Z
LAST-MODIFIED:20260227T211246Z
UID:792-1773248400-1773259200@metrorgc.org
SUMMARY:Range: Pistol League
DESCRIPTION:
URL:https://metrorgc.org/event/range-pistol-league-7/
END:VEVENT
BEGIN:VEVENT
DTSTART;TZID=America/New_York:20260310T170000
DTEND;TZID=America/New_York:20260310T200000
DTSTAMP:20260422T092738
CREATED:20260121T093738Z
LAST-MODIFIED:20260309T212324Z
UID:790-1773162000-1773172800@metrorgc.org
SUMMARY:Adult Rifle - Shamrock Shoot
DESCRIPTION:
URL:https://metrorgc.org/event/adult-rifle-2/
END:VEVENT
BEGIN:VEVENT
DTSTART;TZID=America/New_York:20260308T170000
DTEND;TZID=America/New_York:20260308T200000
DTSTAMP:20260422T092738
CREATED:20260218T225413Z
LAST-MODIFIED:20260227T210945Z
UID:818-1772989200-1773000000@metrorgc.org
SUMMARY:Range - lox and loaded
DESCRIPTION:
URL:https://metrorgc.org/event/range-lox-and-loaded-3/
END:VEVENT
BEGIN:VEVENT
DTSTART;TZID=America/New_York:20260308T090000
DTEND;TZID=America/New_York:20260308T170000
DTSTAMP:20260422T092738
CREATED:20251104T072720Z
LAST-MODIFIED:20260227T210925Z
UID:601-1772960400-1772989200@metrorgc.org
SUMMARY:Meeting Room/Pistol Range Rental
DESCRIPTION:
URL:https://metrorgc.org/event/range-safety-officer-course-range-in-use/
END:VEVENT
BEGIN:VEVENT
DTSTART;TZID=America/New_York:20260304T170000
DTEND;TZID=America/New_York:20260304T200000
DTSTAMP:20260422T092738
CREATED:20260218T225255Z
LAST-MODIFIED:20260227T210903Z
UID:816-1772643600-1772654400@metrorgc.org
SUMMARY:Archery range rental
DESCRIPTION:
URL:https://metrorgc.org/event/archery-range-rental-16/
END:VEVENT
BEGIN:VEVENT
DTSTART;TZID=America/New_York:20260304T170000
DTEND;TZID=America/New_York:20260304T200000
DTSTAMP:20260422T092738
CREATED:20260121T093527Z
LAST-MODIFIED:20260227T210842Z
UID:787-1772643600-1772654400@metrorgc.org
SUMMARY:Range: Pistol League
DESCRIPTION:
URL:https://metrorgc.org/event/range-pistol-league-6/
END:VEVENT
BEGIN:VEVENT
DTSTART;TZID=America/New_York:20260302T170000
DTEND;TZID=America/New_York:20260302T200000
DTSTAMP:20260422T092738
CREATED:20260121T093444Z
LAST-MODIFIED:20260227T172909Z
UID:785-1772470800-1772481600@metrorgc.org
SUMMARY:Meeting Room: Mantis Training
DESCRIPTION:
URL:https://metrorgc.org/event/meeting-room-mantis-training-4/
END:VEVENT
BEGIN:VEVENT
DTSTART;TZID=America/New_York:20260301T170000
DTEND;TZID=America/New_York:20260301T200000
DTSTAMP:20260422T092738
CREATED:20260121T093400Z
LAST-MODIFIED:20260227T153945Z
UID:783-1772384400-1772395200@metrorgc.org
SUMMARY:Range: Lox and Loaded
DESCRIPTION:
URL:https://metrorgc.org/event/range-lox-and-loaded-2/
END:VEVENT
BEGIN:VEVENT
DTSTART;TZID=America/New_York:20260301T090000
DTEND;TZID=America/New_York:20260301T170000
DTSTAMP:20260422T092738
CREATED:20260121T093328Z
LAST-MODIFIED:20260227T161426Z
UID:781-1772355600-1772384400@metrorgc.org
SUMMARY:Meeting Room/Pistol Range Rental
DESCRIPTION:
URL:https://metrorgc.org/event/meeting-room-pistol-range-rental-2/
END:VEVENT
BEGIN:VEVENT
DTSTART;TZID=America/New_York:20260228T100000
DTEND;TZID=America/New_York:20260228T170000
DTSTAMP:20260422T092738
CREATED:20251210T041836Z
LAST-MODIFIED:20260227T151030Z
UID:698-1772272800-1772298000@metrorgc.org
SUMMARY:Archery Range Rental
DESCRIPTION:
URL:https://metrorgc.org/event/archery-range-rental-11/
END:VEVENT
BEGIN:VEVENT
DTSTART;TZID=America/New_York:20260226T200000
DTEND;TZID=America/New_York:20260226T210000
DTSTAMP:20260422T092738
CREATED:20251210T043518Z
LAST-MODIFIED:20260227T154407Z
UID:728-1772136000-1772139600@metrorgc.org
SUMMARY:General Business Meeting - 4th Thursday
DESCRIPTION:
URL:https://metrorgc.org/event/general-business-meeting-4th-thursday-2/
END:VEVENT
BEGIN:VEVENT
DTSTART;TZID=America/New_York:20260226T130000
DTEND;TZID=America/New_York:20260226T150000
DTSTAMP:20260422T092738
CREATED:20260121T093058Z
LAST-MODIFIED:20260225T214904Z
UID:777-1772110800-1772118000@metrorgc.org
SUMMARY:Meeting Room: NRA Gun Safety Seminar\, Stop the bleed and social hour pre-meeting
DESCRIPTION:
URL:https://metrorgc.org/event/meeting-room-nra-gun-safety-seminar-3/
END:VEVENT
BEGIN:VEVENT
DTSTART;TZID=America/New_York:20260225T120000
DTEND;TZID=America/New_York:20260225T160000
DTSTAMP:20260422T092738
CREATED:20260121T092949Z
LAST-MODIFIED:20260121T092949Z
UID:775-1772020800-1772035200@metrorgc.org
SUMMARY:Range: Pistol League
DESCRIPTION:
URL:https://metrorgc.org/event/range-pistol-league-5/
END:VEVENT
BEGIN:VEVENT
DTSTART;TZID=America/New_York:20260222T110000
DTEND;TZID=America/New_York:20260222T150000
DTSTAMP:20260422T092738
CREATED:20260121T092832Z
LAST-MODIFIED:20260121T092832Z
UID:771-1771758000-1771772400@metrorgc.org
SUMMARY:Range Exclusive: NRA Pistol League Sectional Practice
DESCRIPTION:
URL:https://metrorgc.org/event/range-exclusive-nra-pistol-league-sectional-practice/
END:VEVENT
BEGIN:VEVENT
DTSTART;TZID=America/New_York:20260222T080000
DTEND;TZID=America/New_York:20260222T110000
DTSTAMP:20260422T092738
CREATED:20260121T092900Z
LAST-MODIFIED:20260121T092900Z
UID:773-1771747200-1771758000@metrorgc.org
SUMMARY:Range Exclusive: NRA Pistol League Sectional Practice
DESCRIPTION:
URL:https://metrorgc.org/event/range-exclusive-nra-pistol-league-sectional-practice-2/
END:VEVENT
BEGIN:VEVENT
DTSTART;TZID=America/New_York:20260222T050000
DTEND;TZID=America/New_York:20260222T070000
DTSTAMP:20260422T092738
CREATED:20251104T072510Z
LAST-MODIFIED:20251104T072510Z
UID:597-1771736400-1771743600@metrorgc.org
SUMMARY:NRA Approved Match Range in use
DESCRIPTION:Sunday 22 February 10am NRA Approved Match Range in use
URL:https://metrorgc.org/event/nra-approved-match-range-in-use-2/
END:VEVENT
BEGIN:VEVENT
DTSTART;TZID=America/New_York:20260222T030000
DTEND;TZID=America/New_York:20260222T050000
DTSTAMP:20260422T092738
CREATED:20251104T072603Z
LAST-MODIFIED:20251104T072603Z
UID:599-1771729200-1771736400@metrorgc.org
SUMMARY:RSO Refresher Range in use
DESCRIPTION:Sunday 22 February 8am RSO Refresher Range in use
URL:https://metrorgc.org/event/rso-refresher-range-in-use/
END:VEVENT
BEGIN:VEVENT
DTSTART;TZID=America/New_York:20260219T150000
DTEND;TZID=America/New_York:20260219T160000
DTSTAMP:20260422T092738
CREATED:20251210T043245Z
LAST-MODIFIED:20251210T043245Z
UID:720-1771513200-1771516800@metrorgc.org
SUMMARY:Executive Meeting - 3rd Thursday
DESCRIPTION:
URL:https://metrorgc.org/event/executive-meeting-3rd-thursday-3/
END:VEVENT
BEGIN:VEVENT
DTSTART;TZID=America/New_York:20260219T120000
DTEND;TZID=America/New_York:20260219T140000
DTSTAMP:20260422T092738
CREATED:20260218T225028Z
LAST-MODIFIED:20260218T225028Z
UID:814-1771502400-1771509600@metrorgc.org
SUMMARY:Range in use - Lox and Loaded
DESCRIPTION:
URL:https://metrorgc.org/event/range-in-use-lox-and-loaded/
END:VEVENT
BEGIN:VEVENT
DTSTART;TZID=America/New_York:20260218T123000
DTEND;TZID=America/New_York:20260218T153000
DTSTAMP:20260422T092738
CREATED:20260121T092701Z
LAST-MODIFIED:20260121T092701Z
UID:769-1771417800-1771428600@metrorgc.org
SUMMARY:Archery Range Rental
DESCRIPTION:
URL:https://metrorgc.org/event/archery-range-rental-15/
END:VEVENT
BEGIN:VEVENT
DTSTART;TZID=America/New_York:20260218T120000
DTEND;TZID=America/New_York:20260218T150000
DTSTAMP:20260422T092738
CREATED:20260121T092610Z
LAST-MODIFIED:20260121T092610Z
UID:767-1771416000-1771426800@metrorgc.org
SUMMARY:Range: Pistol League
DESCRIPTION:
URL:https://metrorgc.org/event/range-pistol-league-4/
END:VEVENT
END:VCALENDAR