BEGIN:VCALENDAR
VERSION:2.0
PRODID:-//Metropolitan Rod &amp; Gun Club - ECPv6.15.20//NONSGML v1.0//EN
CALSCALE:GREGORIAN
METHOD:PUBLISH
X-WR-CALNAME:Metropolitan Rod &amp; Gun Club
X-ORIGINAL-URL:https://metrorgc.org
X-WR-CALDESC:Events for Metropolitan Rod &amp; Gun Club
REFRESH-INTERVAL;VALUE=DURATION:PT1H
X-Robots-Tag:noindex
X-PUBLISHED-TTL:PT1H
BEGIN:VTIMEZONE
TZID:America/New_York
BEGIN:DAYLIGHT
TZOFFSETFROM:-0500
TZOFFSETTO:-0400
TZNAME:EDT
DTSTART:20240310T070000
END:DAYLIGHT
BEGIN:STANDARD
TZOFFSETFROM:-0400
TZOFFSETTO:-0500
TZNAME:EST
DTSTART:20241103T060000
END:STANDARD
BEGIN:DAYLIGHT
TZOFFSETFROM:-0500
TZOFFSETTO:-0400
TZNAME:EDT
DTSTART:20250309T070000
END:DAYLIGHT
BEGIN:STANDARD
TZOFFSETFROM:-0400
TZOFFSETTO:-0500
TZNAME:EST
DTSTART:20251102T060000
END:STANDARD
BEGIN:DAYLIGHT
TZOFFSETFROM:-0500
TZOFFSETTO:-0400
TZNAME:EDT
DTSTART:20260308T070000
END:DAYLIGHT
BEGIN:STANDARD
TZOFFSETFROM:-0400
TZOFFSETTO:-0500
TZNAME:EST
DTSTART:20261101T060000
END:STANDARD
BEGIN:DAYLIGHT
TZOFFSETFROM:-0500
TZOFFSETTO:-0400
TZNAME:EDT
DTSTART:20270314T070000
END:DAYLIGHT
BEGIN:STANDARD
TZOFFSETFROM:-0400
TZOFFSETTO:-0500
TZNAME:EST
DTSTART:20271107T060000
END:STANDARD
END:VTIMEZONE
BEGIN:VEVENT
DTSTART;TZID=America/New_York:20260125T070000
DTEND;TZID=America/New_York:20260125T100000
DTSTAMP:20260424T054129
CREATED:20260106T213549Z
LAST-MODIFIED:20260106T213549Z
UID:736-1769324400-1769335200@metrorgc.org
SUMMARY:Girls scout event - archery range in use
DESCRIPTION:
URL:https://metrorgc.org/event/girls-scout-event-archery-range-in-use/
END:VEVENT
BEGIN:VEVENT
DTSTART;TZID=America/New_York:20260125T050000
DTEND;TZID=America/New_York:20260125T130000
DTSTAMP:20260424T054129
CREATED:20251210T042205Z
LAST-MODIFIED:20251210T042205Z
UID:705-1769317200-1769346000@metrorgc.org
SUMMARY:NRA Pistol League Matches & New Shooter Seminar
DESCRIPTION:
URL:https://metrorgc.org/event/nra-pistol-league-matches-new-shooter-seminar/
END:VEVENT
BEGIN:VEVENT
DTSTART;TZID=America/New_York:20260125T050000
DTEND;TZID=America/New_York:20260125T070000
DTSTAMP:20260424T054129
CREATED:20251104T072353Z
LAST-MODIFIED:20251104T072353Z
UID:593-1769317200-1769324400@metrorgc.org
SUMMARY:NRA Approved Match Range in use
DESCRIPTION:Sunday 25 January 10am NRA Approved Match Range in use
URL:https://metrorgc.org/event/nra-approved-match-range-in-use/
END:VEVENT
BEGIN:VEVENT
DTSTART;TZID=America/New_York:20260122T150000
DTEND;TZID=America/New_York:20260122T160000
DTSTAMP:20260424T054129
CREATED:20251210T043455Z
LAST-MODIFIED:20251210T043455Z
UID:726-1769094000-1769097600@metrorgc.org
SUMMARY:General Business Meeting - 4th Thursday
DESCRIPTION:
URL:https://metrorgc.org/event/general-business-meeting-4th-thursday/
END:VEVENT
BEGIN:VEVENT
DTSTART;TZID=America/New_York:20260122T130000
DTEND;TZID=America/New_York:20260122T140000
DTSTAMP:20260424T054129
CREATED:20260121T091238Z
LAST-MODIFIED:20260121T091238Z
UID:746-1769086800-1769090400@metrorgc.org
SUMMARY:Meeting Room: NRA Gun Safety Seminar
DESCRIPTION:
URL:https://metrorgc.org/event/meeting-room-nra-gun-safety-seminar-2/
END:VEVENT
BEGIN:VEVENT
DTSTART;TZID=America/New_York:20260121T120000
DTEND;TZID=America/New_York:20260121T150000
DTSTAMP:20260424T054129
CREATED:20251023T042530Z
LAST-MODIFIED:20251210T042628Z
UID:562-1768996800-1769007600@metrorgc.org
SUMMARY:GNYPL - Centerfire 5-8pm
DESCRIPTION:
URL:https://metrorgc.org/event/gnypl-centerfirle-5-8pm-6/
END:VEVENT
BEGIN:VEVENT
DTSTART;TZID=America/New_York:20260121T113000
DTEND;TZID=America/New_York:20260121T150000
DTSTAMP:20260424T054129
CREATED:20251111T074232Z
LAST-MODIFIED:20251111T074232Z
UID:616-1768995000-1769007600@metrorgc.org
SUMMARY:Range in use - Women on target
DESCRIPTION:
URL:https://metrorgc.org/event/range-in-use-women-on-target-2/
END:VEVENT
BEGIN:VEVENT
DTSTART;TZID=America/New_York:20260118T050000
DTEND;TZID=America/New_York:20260118T110000
DTSTAMP:20260424T054129
CREATED:20251104T071345Z
LAST-MODIFIED:20251111T074534Z
UID:587-1768712400-1768734000@metrorgc.org
SUMMARY:Utah CCW course in the club room - RT
DESCRIPTION:The hours of operation will be from noon to 4:00pm for a Utah CCW course in the club room\nonly. There is no range use required for this course.\nThe range is open to all members each day from:\n10:00 am to 11:45am\nand\n4:15pm to 8:00pm.
URL:https://metrorgc.org/event/utah-ccw-course-in-the-club-room-rt/
END:VEVENT
BEGIN:VEVENT
DTSTART;TZID=America/New_York:20260117T050000
DTEND;TZID=America/New_York:20260117T120000
DTSTAMP:20260424T054129
CREATED:20251210T041734Z
LAST-MODIFIED:20251210T041734Z
UID:692-1768626000-1768651200@metrorgc.org
SUMMARY:Archery Range Rental
DESCRIPTION:
URL:https://metrorgc.org/event/archery-range-rental-8/
END:VEVENT
BEGIN:VEVENT
DTSTART;TZID=America/New_York:20260115T150000
DTEND;TZID=America/New_York:20260115T163000
DTSTAMP:20260424T054129
CREATED:20251210T043223Z
LAST-MODIFIED:20251210T043223Z
UID:718-1768489200-1768494600@metrorgc.org
SUMMARY:Executive Meeting - 3rd Thursday
DESCRIPTION:
URL:https://metrorgc.org/event/executive-meeting-3rd-thursday-2/
END:VEVENT
BEGIN:VEVENT
DTSTART;TZID=America/New_York:20260114T120000
DTEND;TZID=America/New_York:20260114T150000
DTSTAMP:20260424T054129
CREATED:20251023T042507Z
LAST-MODIFIED:20251210T042610Z
UID:560-1768392000-1768402800@metrorgc.org
SUMMARY:GNYPL - Centerfire 5-8pm
DESCRIPTION:
URL:https://metrorgc.org/event/gnypl-centerfirle-5-8pm-5/
END:VEVENT
BEGIN:VEVENT
DTSTART;TZID=America/New_York:20260114T113000
DTEND;TZID=America/New_York:20260114T150000
DTSTAMP:20260424T054129
CREATED:20251111T074103Z
LAST-MODIFIED:20251111T074103Z
UID:614-1768390200-1768402800@metrorgc.org
SUMMARY:Range in use - Women on Target
DESCRIPTION:
URL:https://metrorgc.org/event/range-in-use-women-on-target/
END:VEVENT
BEGIN:VEVENT
DTSTART;TZID=America/New_York:20260113T120000
DTEND;TZID=America/New_York:20260113T150000
DTSTAMP:20260424T054129
CREATED:20251210T043719Z
LAST-MODIFIED:20251210T043719Z
UID:732-1768305600-1768316400@metrorgc.org
SUMMARY:Adult rifle .22 night
DESCRIPTION:
URL:https://metrorgc.org/event/adult-rifle-22-night/
END:VEVENT
BEGIN:VEVENT
DTSTART;TZID=America/New_York:20260112T123000
DTEND;TZID=America/New_York:20260112T163000
DTSTAMP:20260424T054129
CREATED:20251211T005422Z
LAST-MODIFIED:20251211T005422Z
UID:734-1768221000-1768235400@metrorgc.org
SUMMARY:Turkeys for Tomorrow event
DESCRIPTION:
URL:https://metrorgc.org/event/turkeys-for-tomorrow-event/
END:VEVENT
BEGIN:VEVENT
DTSTART;TZID=America/New_York:20260111T030000
DTEND;TZID=America/New_York:20260111T120000
DTSTAMP:20260424T054129
CREATED:20260106T214343Z
LAST-MODIFIED:20260106T214343Z
UID:741-1768100400-1768132800@metrorgc.org
SUMMARY:Meeting Room/Pistol Range Rental: Guardian
DESCRIPTION:
URL:https://metrorgc.org/event/meeting-room-pistol-range-rental-guardian-2/
END:VEVENT
BEGIN:VEVENT
DTSTART;TZID=America/New_York:20260108T120000
DTEND;TZID=America/New_York:20260108T150000
DTSTAMP:20260424T054129
CREATED:20251210T042830Z
LAST-MODIFIED:20251210T043127Z
UID:714-1767873600-1767884400@metrorgc.org
SUMMARY:Juniors Night - 2nd Tuesday
DESCRIPTION:
URL:https://metrorgc.org/event/juniors-night-2nd-tuesday-2/
END:VEVENT
BEGIN:VEVENT
DTSTART;TZID=America/New_York:20260107T123000
DTEND;TZID=America/New_York:20260107T153000
DTSTAMP:20260424T054129
CREATED:20251210T042733Z
LAST-MODIFIED:20251210T042733Z
UID:712-1767789000-1767799800@metrorgc.org
SUMMARY:Archery Range Rental
DESCRIPTION:
URL:https://metrorgc.org/event/archery-range-rental-13/
END:VEVENT
BEGIN:VEVENT
DTSTART;TZID=America/New_York:20260107T120000
DTEND;TZID=America/New_York:20260107T150000
DTSTAMP:20260424T054129
CREATED:20251023T042443Z
LAST-MODIFIED:20251210T042548Z
UID:558-1767787200-1767798000@metrorgc.org
SUMMARY:GNYPL - Centerfire 5-8pm
DESCRIPTION:
URL:https://metrorgc.org/event/gnypl-centerfirle-5-8pm-4/
END:VEVENT
BEGIN:VEVENT
DTSTART;TZID=America/New_York:20260107T113000
DTEND;TZID=America/New_York:20260107T150000
DTSTAMP:20260424T054129
CREATED:20251111T074028Z
LAST-MODIFIED:20251111T074028Z
UID:612-1767785400-1767798000@metrorgc.org
SUMMARY:Women on Target - Range in use
DESCRIPTION:
URL:https://metrorgc.org/event/women-on-target-range-in-use/
END:VEVENT
BEGIN:VEVENT
DTSTART;TZID=America/New_York:20260105T130000
DTEND;TZID=America/New_York:20260105T150000
DTSTAMP:20260424T054129
CREATED:20251118T194254Z
LAST-MODIFIED:20251118T194254Z
UID:655-1767618000-1767625200@metrorgc.org
SUMMARY:Meeting Room - Mantis Training
DESCRIPTION:
URL:https://metrorgc.org/event/meeting-room-mantis-training-2/
END:VEVENT
BEGIN:VEVENT
DTSTART;TZID=America/New_York:20260104T030000
DTEND;TZID=America/New_York:20260104T120000
DTSTAMP:20260424T054129
CREATED:20260106T214325Z
LAST-MODIFIED:20260106T214325Z
UID:739-1767495600-1767528000@metrorgc.org
SUMMARY:Meeting Room/Pistol Range Rental: Guardian
DESCRIPTION:
URL:https://metrorgc.org/event/meeting-room-pistol-range-rental-guardian/
END:VEVENT
BEGIN:VEVENT
DTSTART;TZID=America/New_York:20260103T050000
DTEND;TZID=America/New_York:20260103T120000
DTSTAMP:20260424T054129
CREATED:20251210T041644Z
LAST-MODIFIED:20251210T041644Z
UID:690-1767416400-1767441600@metrorgc.org
SUMMARY:Archery Range Rental
DESCRIPTION:
URL:https://metrorgc.org/event/archery-range-rental-7/
END:VEVENT
BEGIN:VEVENT
DTSTART;TZID=America/New_York:20251230T070000
DTEND;TZID=America/New_York:20251230T100000
DTSTAMP:20260424T054129
CREATED:20251210T042315Z
LAST-MODIFIED:20251210T042315Z
UID:707-1767078000-1767088800@metrorgc.org
SUMMARY:Archery Range Rental
DESCRIPTION:
URL:https://metrorgc.org/event/archery-range-rental-12/
END:VEVENT
BEGIN:VEVENT
DTSTART;TZID=America/New_York:20251228T050000
DTEND;TZID=America/New_York:20251228T130000
DTSTAMP:20260424T054129
CREATED:20251210T042105Z
LAST-MODIFIED:20251210T042148Z
UID:702-1766898000-1766926800@metrorgc.org
SUMMARY:NRA Pistol League Matches & New Shooter Seminar
DESCRIPTION:
URL:https://metrorgc.org/event/nra-pistol-league-matches-new-shooter-semina/
END:VEVENT
BEGIN:VEVENT
DTSTART;TZID=America/New_York:20251227T050000
DTEND;TZID=America/New_York:20251227T120000
DTSTAMP:20260424T054129
CREATED:20251210T041624Z
LAST-MODIFIED:20251210T041624Z
UID:688-1766811600-1766836800@metrorgc.org
SUMMARY:Archery Range Rental
DESCRIPTION:
URL:https://metrorgc.org/event/archery-range-rental-6/
END:VEVENT
BEGIN:VEVENT
DTSTART;TZID=America/New_York:20251226T030000
DTEND;TZID=America/New_York:20260101T120000
DTSTAMP:20260424T054129
CREATED:20251118T203129Z
LAST-MODIFIED:20251210T041119Z
UID:675-1766718000-1767268800@metrorgc.org
SUMMARY:Late Bow & Muzzleloader Season - Dec 26 - Jan 1
DESCRIPTION:
URL:https://metrorgc.org/event/late-bow-dec-26-jan-1/
END:VEVENT
BEGIN:VEVENT
DTSTART;TZID=America/New_York:20251225T030000
DTEND;TZID=America/New_York:20251225T120000
DTSTAMP:20260424T054129
CREATED:20251118T202719Z
LAST-MODIFIED:20251118T202719Z
UID:669-1766631600-1766664000@metrorgc.org
SUMMARY:Merry Christmas
DESCRIPTION:
URL:https://metrorgc.org/event/merry-christmas/
END:VEVENT
BEGIN:VEVENT
DTSTART;TZID=America/New_York:20251221T130000
DTEND;TZID=America/New_York:20251221T150000
DTSTAMP:20260424T054129
CREATED:20251210T041937Z
LAST-MODIFIED:20251210T041937Z
UID:700-1766322000-1766329200@metrorgc.org
SUMMARY:Social & Shoot
DESCRIPTION:
URL:https://metrorgc.org/event/social-shoot/
END:VEVENT
BEGIN:VEVENT
DTSTART;TZID=America/New_York:20251220T050000
DTEND;TZID=America/New_York:20251220T120000
DTSTAMP:20260424T054129
CREATED:20251210T041603Z
LAST-MODIFIED:20251210T041603Z
UID:686-1766206800-1766232000@metrorgc.org
SUMMARY:Archery Range Rental
DESCRIPTION:
URL:https://metrorgc.org/event/archery-range-rental-5/
END:VEVENT
BEGIN:VEVENT
DTSTART;TZID=America/New_York:20251218T140000
DTEND;TZID=America/New_York:20251218T170000
DTSTAMP:20260424T054129
CREATED:20251111T080342Z
LAST-MODIFIED:20251210T040837Z
UID:627-1766066400-1766077200@metrorgc.org
SUMMARY:General Business Meeting & Holiday Party - 3rd Thursday of December
DESCRIPTION:
URL:https://metrorgc.org/event/general-business-meeting-and-holiday-party-3rd-thursday-for-december/
END:VEVENT
END:VCALENDAR