BEGIN:VCALENDAR
VERSION:2.0
PRODID:-//Metropolitan Rod &amp; Gun Club - ECPv6.15.20//NONSGML v1.0//EN
CALSCALE:GREGORIAN
METHOD:PUBLISH
X-WR-CALNAME:Metropolitan Rod &amp; Gun Club
X-ORIGINAL-URL:https://metrorgc.org
X-WR-CALDESC:Events for Metropolitan Rod &amp; Gun Club
REFRESH-INTERVAL;VALUE=DURATION:PT1H
X-Robots-Tag:noindex
X-PUBLISHED-TTL:PT1H
BEGIN:VTIMEZONE
TZID:America/New_York
BEGIN:DAYLIGHT
TZOFFSETFROM:-0500
TZOFFSETTO:-0400
TZNAME:EDT
DTSTART:20240310T070000
END:DAYLIGHT
BEGIN:STANDARD
TZOFFSETFROM:-0400
TZOFFSETTO:-0500
TZNAME:EST
DTSTART:20241103T060000
END:STANDARD
BEGIN:DAYLIGHT
TZOFFSETFROM:-0500
TZOFFSETTO:-0400
TZNAME:EDT
DTSTART:20250309T070000
END:DAYLIGHT
BEGIN:STANDARD
TZOFFSETFROM:-0400
TZOFFSETTO:-0500
TZNAME:EST
DTSTART:20251102T060000
END:STANDARD
BEGIN:DAYLIGHT
TZOFFSETFROM:-0500
TZOFFSETTO:-0400
TZNAME:EDT
DTSTART:20260308T070000
END:DAYLIGHT
BEGIN:STANDARD
TZOFFSETFROM:-0400
TZOFFSETTO:-0500
TZNAME:EST
DTSTART:20261101T060000
END:STANDARD
END:VTIMEZONE
BEGIN:VEVENT
DTSTART;TZID=America/New_York:20251218T140000
DTEND;TZID=America/New_York:20251218T170000
DTSTAMP:20260425T064431
CREATED:20251111T080342Z
LAST-MODIFIED:20251210T040837Z
UID:627-1766066400-1766077200@metrorgc.org
SUMMARY:General Business Meeting & Holiday Party - 3rd Thursday of December
DESCRIPTION:
URL:https://metrorgc.org/event/general-business-meeting-and-holiday-party-3rd-thursday-for-december/
END:VEVENT
BEGIN:VEVENT
DTSTART;TZID=America/New_York:20251217T123000
DTEND;TZID=America/New_York:20251217T153000
DTSTAMP:20260425T064431
CREATED:20251210T040754Z
LAST-MODIFIED:20251210T040754Z
UID:680-1765974600-1765985400@metrorgc.org
SUMMARY:Archery Range Rental
DESCRIPTION:
URL:https://metrorgc.org/event/archery-range-rental-4/
END:VEVENT
BEGIN:VEVENT
DTSTART;TZID=America/New_York:20251217T120000
DTEND;TZID=America/New_York:20251217T150000
DTSTAMP:20260425T064431
CREATED:20251023T042416Z
LAST-MODIFIED:20251210T041013Z
UID:556-1765972800-1765983600@metrorgc.org
SUMMARY:GNYPL - Centerfire 5-8pm
DESCRIPTION:
URL:https://metrorgc.org/event/gnypl-centerfirle-5-8pm-3/
END:VEVENT
BEGIN:VEVENT
DTSTART;TZID=America/New_York:20251214T120000
DTEND;TZID=America/New_York:20251222T120000
DTSTAMP:20260425T064431
CREATED:20251118T202849Z
LAST-MODIFIED:20251118T202907Z
UID:671-1765713600-1766404800@metrorgc.org
SUMMARY:Happy Hanukkah
DESCRIPTION:
URL:https://metrorgc.org/event/happy-hanukkah/
END:VEVENT
BEGIN:VEVENT
DTSTART;TZID=America/New_York:20251211T150000
DTEND;TZID=America/New_York:20251211T160000
DTSTAMP:20260425T064431
CREATED:20251111T080242Z
LAST-MODIFIED:20251111T080242Z
UID:625-1765465200-1765468800@metrorgc.org
SUMMARY:Executive Meeting - Moved up to the 2nd Thursday in December
DESCRIPTION:
URL:https://metrorgc.org/event/executive-meeting-moved-up-to-the-2nd-thursday-in-december/
END:VEVENT
BEGIN:VEVENT
DTSTART;TZID=America/New_York:20251210T120000
DTEND;TZID=America/New_York:20251210T150000
DTSTAMP:20260425T064431
CREATED:20251023T042330Z
LAST-MODIFIED:20251210T040227Z
UID:554-1765368000-1765378800@metrorgc.org
SUMMARY:GNYPL - Centerfire 5-8pm
DESCRIPTION:
URL:https://metrorgc.org/event/gnypl-centerfirle-5-8pm-2/
END:VEVENT
BEGIN:VEVENT
DTSTART;TZID=America/New_York:20251209T120000
DTEND;TZID=America/New_York:20251209T150000
DTSTAMP:20260425T064431
CREATED:20251118T202549Z
LAST-MODIFIED:20251118T202549Z
UID:665-1765281600-1765292400@metrorgc.org
SUMMARY:Adult rifle night
DESCRIPTION:
URL:https://metrorgc.org/event/adult-rifle-night/
END:VEVENT
BEGIN:VEVENT
DTSTART;TZID=America/New_York:20251208T030000
DTEND;TZID=America/New_York:20251216T120000
DTSTAMP:20260425T064431
CREATED:20251118T203046Z
LAST-MODIFIED:20251210T041054Z
UID:673-1765162800-1765886400@metrorgc.org
SUMMARY:Late Bow & Muzzleloader Season - Dec 8 -16
DESCRIPTION:
URL:https://metrorgc.org/event/late-bow-season-dec-8-16/
END:VEVENT
BEGIN:VEVENT
DTSTART;TZID=America/New_York:20251207T140000
DTEND;TZID=America/New_York:20251207T160000
DTSTAMP:20260425T064431
CREATED:20251118T202503Z
LAST-MODIFIED:20251118T202503Z
UID:663-1765116000-1765123200@metrorgc.org
SUMMARY:Meeting room rented
DESCRIPTION:
URL:https://metrorgc.org/event/meeting-room-rented/
END:VEVENT
BEGIN:VEVENT
DTSTART;TZID=America/New_York:20251206T050000
DTEND;TZID=America/New_York:20251206T073000
DTSTAMP:20260425T064431
CREATED:20251118T202146Z
LAST-MODIFIED:20251118T202146Z
UID:661-1764997200-1765006200@metrorgc.org
SUMMARY:Archery Range Rental
DESCRIPTION:
URL:https://metrorgc.org/event/archery-range-rental-3/
END:VEVENT
BEGIN:VEVENT
DTSTART;TZID=America/New_York:20251203T123000
DTEND;TZID=America/New_York:20251203T150000
DTSTAMP:20260425T064431
CREATED:20251118T202052Z
LAST-MODIFIED:20251118T202052Z
UID:659-1764765000-1764774000@metrorgc.org
SUMMARY:Archery Range Rental
DESCRIPTION:
URL:https://metrorgc.org/event/archery-range-rental-2/
END:VEVENT
BEGIN:VEVENT
DTSTART;TZID=America/New_York:20251203T120000
DTEND;TZID=America/New_York:20251203T150000
DTSTAMP:20260425T064431
CREATED:20251023T042307Z
LAST-MODIFIED:20251111T075422Z
UID:552-1764763200-1764774000@metrorgc.org
SUMMARY:GNYPL - Centerfire 5-8pm
DESCRIPTION:
URL:https://metrorgc.org/event/gnypl-centerfirle-5-8pm/
END:VEVENT
BEGIN:VEVENT
DTSTART;TZID=America/New_York:20251201T130000
DTEND;TZID=America/New_York:20251201T150000
DTSTAMP:20260425T064431
CREATED:20251118T194232Z
LAST-MODIFIED:20251118T194232Z
UID:653-1764594000-1764601200@metrorgc.org
SUMMARY:Meeting Room - Mantis Training
DESCRIPTION:
URL:https://metrorgc.org/event/meeting-room-mantis-training/
END:VEVENT
BEGIN:VEVENT
DTSTART;TZID=America/New_York:20251130T050000
DTEND;TZID=America/New_York:20251130T110000
DTSTAMP:20260425T064431
CREATED:20251111T073746Z
LAST-MODIFIED:20251111T073908Z
UID:607-1764478800-1764500400@metrorgc.org
SUMMARY:Range in use: GNYPL 900
DESCRIPTION:
URL:https://metrorgc.org/event/gnypl-900/
END:VEVENT
BEGIN:VEVENT
DTSTART;TZID=America/New_York:20251127T030000
DTEND;TZID=America/New_York:20251127T120000
DTSTAMP:20260425T064431
CREATED:20251104T072932Z
LAST-MODIFIED:20251104T072932Z
UID:603-1764212400-1764244800@metrorgc.org
SUMMARY:Happy Thankgiving!
DESCRIPTION:
URL:https://metrorgc.org/event/happy-thankgiving/
END:VEVENT
BEGIN:VEVENT
DTSTART;TZID=America/New_York:20251126T120000
DTEND;TZID=America/New_York:20251126T150000
DTSTAMP:20260425T064431
CREATED:20251118T194020Z
LAST-MODIFIED:20251118T194020Z
UID:647-1764158400-1764169200@metrorgc.org
SUMMARY:Range: Pistol League
DESCRIPTION:
URL:https://metrorgc.org/event/range-pistol-league/
END:VEVENT
BEGIN:VEVENT
DTSTART;TZID=America/New_York:20251125T150000
DTEND;TZID=America/New_York:20251125T160000
DTSTAMP:20260425T064431
CREATED:20251023T042807Z
LAST-MODIFIED:20251023T042807Z
UID:566-1764082800-1764086400@metrorgc.org
SUMMARY:General Business Meeting - 8pm
DESCRIPTION:
URL:https://metrorgc.org/event/general-business-meeting-8pm-2/
END:VEVENT
BEGIN:VEVENT
DTSTART;TZID=America/New_York:20251125T130000
DTEND;TZID=America/New_York:20251125T150000
DTSTAMP:20260425T064431
CREATED:20251121T222015Z
LAST-MODIFIED:20251121T222015Z
UID:677-1764075600-1764082800@metrorgc.org
SUMMARY:Gun Cleaning Class
DESCRIPTION:
URL:https://metrorgc.org/event/gun-cleaning-class/
END:VEVENT
BEGIN:VEVENT
DTSTART;TZID=America/New_York:20251123T110000
DTEND;TZID=America/New_York:20251123T130000
DTSTAMP:20260425T064431
CREATED:20251118T193948Z
LAST-MODIFIED:20251118T193948Z
UID:645-1763895600-1763902800@metrorgc.org
SUMMARY:New Shooter Seminar
DESCRIPTION:
URL:https://metrorgc.org/event/new-shooter-seminar/
END:VEVENT
BEGIN:VEVENT
DTSTART;TZID=America/New_York:20251123T090000
DTEND;TZID=America/New_York:20251123T110000
DTSTAMP:20260425T064431
CREATED:20251118T193926Z
LAST-MODIFIED:20251118T193926Z
UID:643-1763888400-1763895600@metrorgc.org
SUMMARY:NRA Pistol League Matches
DESCRIPTION:
URL:https://metrorgc.org/event/nra-pistol-league-matches-2/
END:VEVENT
BEGIN:VEVENT
DTSTART;TZID=America/New_York:20251123T040000
DTEND;TZID=America/New_York:20251123T080000
DTSTAMP:20260425T064431
CREATED:20251118T193425Z
LAST-MODIFIED:20251118T193425Z
UID:631-1763870400-1763884800@metrorgc.org
SUMMARY:Work Party at the Clubhouse
DESCRIPTION:
URL:https://metrorgc.org/event/work-party-at-the-clubhouse-2/
END:VEVENT
BEGIN:VEVENT
DTSTART;TZID=America/New_York:20251122T040000
DTEND;TZID=America/New_York:20251122T080000
DTSTAMP:20260425T064431
CREATED:20251118T193408Z
LAST-MODIFIED:20251118T193408Z
UID:629-1763784000-1763798400@metrorgc.org
SUMMARY:Work Party at the Clubhouse
DESCRIPTION:
URL:https://metrorgc.org/event/work-party-at-the-clubhouse/
END:VEVENT
BEGIN:VEVENT
DTSTART;TZID=America/New_York:20251120T150000
DTEND;TZID=America/New_York:20251120T160000
DTSTAMP:20260425T064431
CREATED:20251023T042734Z
LAST-MODIFIED:20251023T042734Z
UID:564-1763650800-1763654400@metrorgc.org
SUMMARY:Executive Meeting - 8pm
DESCRIPTION:
URL:https://metrorgc.org/event/executive-meeting-8pm/
END:VEVENT
BEGIN:VEVENT
DTSTART;TZID=America/New_York:20251120T130000
DTEND;TZID=America/New_York:20251120T140000
DTSTAMP:20260425T064431
CREATED:20251118T194058Z
LAST-MODIFIED:20251118T194058Z
UID:649-1763643600-1763647200@metrorgc.org
SUMMARY:Meeting Room: NRA Gun Safety Seminar
DESCRIPTION:
URL:https://metrorgc.org/event/meeting-room-nra-gun-safety-seminar/
END:VEVENT
BEGIN:VEVENT
DTSTART;TZID=America/New_York:20251119T123000
DTEND;TZID=America/New_York:20251119T153000
DTSTAMP:20260425T064431
CREATED:20251118T193812Z
LAST-MODIFIED:20251118T193812Z
UID:639-1763555400-1763566200@metrorgc.org
SUMMARY:Archery Range Rental
DESCRIPTION:
URL:https://metrorgc.org/event/archery-range-rental/
END:VEVENT
BEGIN:VEVENT
DTSTART;TZID=America/New_York:20251119T120000
DTEND;TZID=America/New_York:20251119T150000
DTSTAMP:20260425T064431
CREATED:20251118T193740Z
LAST-MODIFIED:20251118T193740Z
UID:637-1763553600-1763564400@metrorgc.org
SUMMARY:Pistol range - league shoot
DESCRIPTION:
URL:https://metrorgc.org/event/pistol-range-league-shoot/
END:VEVENT
BEGIN:VEVENT
DTSTART;TZID=America/New_York:20251119T050000
DTEND;TZID=America/New_York:20251119T070000
DTSTAMP:20260425T064431
CREATED:20251118T193639Z
LAST-MODIFIED:20251118T193639Z
UID:635-1763528400-1763535600@metrorgc.org
SUMMARY:Pistol Range Rental
DESCRIPTION:
URL:https://metrorgc.org/event/pistol-range-rental/
END:VEVENT
BEGIN:VEVENT
DTSTART;TZID=America/New_York:20251118T123000
DTEND;TZID=America/New_York:20251118T150000
DTSTAMP:20260425T064431
CREATED:20251118T193541Z
LAST-MODIFIED:20251118T193541Z
UID:633-1763469000-1763478000@metrorgc.org
SUMMARY:Archery Range - Metro v NYPD
DESCRIPTION:
URL:https://metrorgc.org/event/archery-range-metro-v-nypd/
END:VEVENT
BEGIN:VEVENT
DTSTART;TZID=America/New_York:20251118T120000
DTEND;TZID=America/New_York:20251118T150000
DTSTAMP:20260425T064431
CREATED:20251023T020614Z
LAST-MODIFIED:20251023T020614Z
UID:550-1763467200-1763478000@metrorgc.org
SUMMARY:Social and Shoot - 5pm
DESCRIPTION:
URL:https://metrorgc.org/event/social-and-shoot-5pm/
END:VEVENT
BEGIN:VEVENT
DTSTART;TZID=America/New_York:20251115T030000
DTEND;TZID=America/New_York:20251207T120000
DTSTAMP:20260425T064431
CREATED:20251013T231525Z
LAST-MODIFIED:20251013T231525Z
UID:520-1763175600-1765108800@metrorgc.org
SUMMARY:Nov 15 to Dec 7 - Regular Hunting Season
DESCRIPTION:
URL:https://metrorgc.org/event/nov-15-to-dec-7-regular-hunting-season/
END:VEVENT
END:VCALENDAR